BEGIN:VCALENDAR
VERSION:2.0
PRODID:-//ChamberMaster//Event Calendar 2.0//EN
METHOD:PUBLISH
X-PUBLISHED-TTL:P3D
REFRESH-INTERVAL:P3D
CALSCALE:GREGORIAN
BEGIN:VEVENT
DTSTART:20211026T183000Z
DTEND:20211026T203000Z
X-MICROSOFT-CDO-ALLDAYEVENT:FALSE
SUMMARY:Stepping On Falls Prevention Series
DESCRIPTION:Stepping On Fall Prevention Class Tuesdays\, September 14 ? October 26 from 1:30 ? 3:30 PM Stoughton Area Senior Center\, Yahara Room One in four older adults has a fall each year according to the CDC. In just 7 weekly\, 2-hour sessions\, the Stepping On class gives participants strategies for avoiding falls including balance and strength exercises\, home safety check suggestions\, medication review\, and more. The good news is that falls are not a normal part of aging and can be prevented. The Stepping On program\, offered in Stoughton by the Stoughton Area Senior Center and Safe Communities of Madison-Dane County\, has been researched and proven to reduce falls. Classes will be held Tuesdays\, September 14 ? October 26\, from 1:30PM ? 3:30PM. Call 608-873-8585 to register. Masks are required. Cost is $35.
X-ALT-DESC;FMTTYPE=text/html:Stepping On Fall Prevention Class Tuesdays\, September 14 ? October 26 from 1:30 ? 3:30 PM Stoughton Area Senior Center\, Yahara Room One in four older adults has a fall each year according to the CDC. In just 7 weekly\, 2-hour sessions\, the Stepping On class gives participants strategies for avoiding falls including balance and strength exercises\, home safety check suggestions\, medication review\, and more. The good news is that falls are not a normal part of aging and can be prevented. The Stepping On program\, offered in Stoughton by the Stoughton Area Senior Center and Safe Communities of Madison-Dane County\, has been researched and proven to reduce falls. Classes will be held Tuesdays\, September 14 ? October 26\, from 1:30PM ? 3:30PM. Call 608-873-8585 to register. Masks are required. Cost is $35.
LOCATION:Stoughton Area Senior Center
UID:e.3020.6024
SEQUENCE:3
DTSTAMP:20260424T173710Z
URL:https://www.stoughtonwi.com/events/details/stepping-on-falls-prevention-series-10-26-2021-6024
END:VEVENT

END:VCALENDAR
