BEGIN:VCALENDAR
VERSION:2.0
PRODID:-//ChamberMaster//Event Calendar 2.0//EN
METHOD:PUBLISH
X-PUBLISHED-TTL:P3D
REFRESH-INTERVAL:P3D
CALSCALE:GREGORIAN
BEGIN:VEVENT
DTSTART:20250410T203000Z
DTEND:20250410T213000Z
X-MICROSOFT-CDO-ALLDAYEVENT:FALSE
SUMMARY:Stitches
DESCRIPTION:Do you knit\, crochet\, cross stitch\, embroider\, make friendship bracelets\, etc? Would you like to learn how to do any of those thing? All experience levels are welcome to hang out and make something with yarn and embroidery thread! Learn a new skill\, finish a project\, or teach someone your favorite skill! Ages 8-16
X-ALT-DESC;FMTTYPE=text/html:<span style="font-size:12.0pt">Do you knit\, crochet\, cross stitch\, embroider\, make friendship bracelets\, etc? Would you like to learn how to do any of those thing? All experience levels are welcome to hang out and make something with yarn and embroidery thread! Learn a new skill\, finish a project\, or teach someone your favorite skill! Ages 8-16</span>
LOCATION:Stoughton Public Library
UID:e.3020.12903
SEQUENCE:3
DTSTAMP:20260420T082048Z
URL:https://www.stoughtonwi.com/events/details/stitches-04-10-2025-12903
END:VEVENT

END:VCALENDAR
