BEGIN:VCALENDAR
VERSION:2.0
PRODID:-//ChamberMaster//Event Calendar 2.0//EN
METHOD:PUBLISH
X-PUBLISHED-TTL:P3D
REFRESH-INTERVAL:P3D
CALSCALE:GREGORIAN
BEGIN:VEVENT
DTSTART:20240723T130000Z
DTEND:20240723T200000Z
X-MICROSOFT-CDO-ALLDAYEVENT:FALSE
SUMMARY:Stoughton Chamber Golf Outing 2024: Eldon Homes Classic
DESCRIPTION:Join us for the 26th annual Stoughton Chamber Golf Outing Tuesday\, July 23rd!  \n\n\n\nRegistration begins at 8:00am with a shotgun start at 9am.  \n\n\n\nThere will be a program\, networking & banquet at 3:30pm.\n\n\n\nThe Stoughton Chamber Golf Outing donates to a local non-profit each year. This year we will be donating a portion of the golf outing proceeds to Fort Littlegreen's capital campaign project.
X-ALT-DESC;FMTTYPE=text/html:Join us for the 26th annual Stoughton Chamber Golf Outing Tuesday\, July 23rd!&nbsp\;&nbsp\;<br />\n<br />\nRegistration begins at 8:00am with a shotgun start at 9am.&nbsp\;&nbsp\;<br />\n<br />\nThere will be a program\, networking &amp\; banquet at 3:30pm.<br />\n<br />\nThe Stoughton Chamber Golf Outing donates to a local non-profit each year. This year we will be donating a portion of the golf outing proceeds to Fort Littlegreen&#39\;s capital campaign project.
LOCATION:Stoughton Country Club
UID:e.3020.11350
SEQUENCE:3
DTSTAMP:20260420T063902Z
URL:https://www.stoughtonwi.com/events/details/stoughton-chamber-golf-outing-2024-eldon-homes-classic-11350
END:VEVENT

END:VCALENDAR
