BEGIN:VCALENDAR
VERSION:2.0
PRODID:-//ChamberMaster//Event Calendar 2.0//EN
METHOD:PUBLISH
X-PUBLISHED-TTL:P3D
REFRESH-INTERVAL:P3D
CALSCALE:GREGORIAN
BEGIN:VEVENT
DTSTART:20240504T140000Z
DTEND:20240504T170000Z
X-MICROSOFT-CDO-ALLDAYEVENT:FALSE
SUMMARY:Stoughton Community Clean Up Day
DESCRIPTION:Join us in cleaning up our community and making it shiny and new before Syttende Mai.\n\n \n\nSaturday\, May 4\, 2024\n\n9a-12p\n\n \n\nWant to help? Fill out the short form here: https://forms.gle/FDPQzS8FSDAQbjw2A\n\n \n\nYou will be emailed your route of clean up the week-of.\n\n-Gloves\, safety vests\, grabber tools\, garbage bags and recycling receptacles will be provided.\n\nA central Volunteer Help station with additional materials\, and water will be located at Riverside Park on Riverside Dr\, across from Mandt Park.\n\n \n\nQuestions?\n\nDoes your business want to sponsor this event by providing funding or materials? Please email northerncompass53597@gmail.com
X-ALT-DESC;FMTTYPE=text/html:<div>Join us in cleaning up our community and making it shiny and new before Syttende Mai.<br />\n&nbsp\;</div>\n\n<div>Saturday\, May 4\, 2024<br />\n9a-12p<br />\n&nbsp\;</div>\n\n<div>Want to help? Fill out the short form here:&nbsp\;<a class="x1i10hfl xjbqb8w x1ejq31n xd10rxx x1sy0etr x17r0tee x972fbf xcfux6l x1qhh985 xm0m39n x9f619 x1ypdohk xt0psk2 xe8uvvx xdj266r x11i5rnm xat24cr x1mh8g0r xexx8yu x4uap5 x18d9i69 xkhd6sd x16tdsg8 x1hl2dhg xggy1nq x1a2a7pz xt0b8zv x1fey0fg" href="https://forms.gle/FDPQzS8FSDAQbjw2A?fbclid=IwAR2HbFSDDcNdcMB-fKty5x7caj80TQfUnMeuwsi3XFGuRsKkw5nptR3AkEg_aem_Abzp-TuGHAYuMLvpPWOqWdYG29K369T4L_-V2fG9ssw_mZ3uaJ5Ok0c32wwetsYCtFmPPoDW1PbbXZv9EtwFEALR" rel="nofollow noreferrer" style="color: var(--blue-link)\; cursor: pointer\; text-decoration-line: none\; outline: none\; margin: 0px\; text-align: inherit\; border-style: none\; padding: 0px\; border-width: 0px\; box-sizing: border-box\; background-color: transparent\; display: inline\; list-style: none\; -webkit-tap-highlight-color: transparent\; touch-action: manipulation\; font-family: inherit\; animation-name: none !important\; transition-property: none !important\;" tabindex="0" target="_blank">https://forms.gle/FDPQzS8FSDAQbjw2A</a><br />\n&nbsp\;</div>\n\n<div>You will be emailed your route of clean up the week-of.<br />\n-Gloves\, safety vests\, grabber tools\, garbage bags and recycling receptacles will be provided.</div>\n\n<div>A central Volunteer Help station with additional materials\, and water will be located at Riverside Park on Riverside Dr\, across from Mandt Park.<br />\n&nbsp\;</div>\n\n<div>Questions?<br />\nDoes your business want to sponsor this event by providing funding or materials? Please email northerncompass53597@gmail.com&nbsp\;\n<div style="text-align:inherit">&nbsp\;</div>\n</div>\n
LOCATION:Riverside Park 210 Riverside Park Stoughton\, WI 53589
UID:e.3020.11825
SEQUENCE:3
DTSTAMP:20260420T022943Z
URL:https://www.stoughtonwi.com/events/details/stoughton-community-clean-up-day-11825
END:VEVENT

END:VCALENDAR
