BEGIN:VCALENDAR
VERSION:2.0
PRODID:-//ChamberMaster//Event Calendar 2.0//EN
METHOD:PUBLISH
X-PUBLISHED-TTL:P3D
REFRESH-INTERVAL:P3D
CALSCALE:GREGORIAN
BEGIN:VEVENT
DTSTART:20240410T000000Z
DTEND:20240410T010000Z
X-MICROSOFT-CDO-ALLDAYEVENT:FALSE
SUMMARY:Stoughton FFA Alumni & Supporters Meeting
DESCRIPTION:General meetings- are open to all our members and we encourage you to attend! We are holding them at Dunkirk Town Hall\, 654 Hwy N\, Stoughton (south of town).
X-ALT-DESC;FMTTYPE=text/html:General meetings- are open to all our members and we encourage you to attend! We are holding them at Dunkirk Town Hall\, 654 Hwy N\, Stoughton (south of town).
LOCATION:Dunkirk Town Hall 654 Hwy N\, Stoughton
UID:e.3020.11655
SEQUENCE:3
DTSTAMP:20260420T011009Z
URL:https://www.stoughtonwi.com/events/details/stoughton-ffa-alumni-supporters-meeting-04-09-2024-11655
END:VEVENT

END:VCALENDAR
