BEGIN:VCALENDAR
VERSION:2.0
PRODID:-//ChamberMaster//Event Calendar 2.0//EN
METHOD:PUBLISH
X-PUBLISHED-TTL:P3D
REFRESH-INTERVAL:P3D
CALSCALE:GREGORIAN
BEGIN:VEVENT
DTSTART:20240511T210000Z
DTEND:20240512T020000Z
X-MICROSOFT-CDO-ALLDAYEVENT:FALSE
SUMMARY:Stoughton Gallery Night
DESCRIPTION:Come to Stoughton for Spring Gallery Night at six fine art galleries!\n\nArt aficionado or not\, come enjoy Stoughton Gallery Night\, with over 150 artists' work displayed in six locations\, all in the beautiful Arts & Entertainment District of downtown Stoughton. Many artists will be on hand to demonstrate and discuss their art.\n\n\n\nSaturday\, May 11\, 2024\, 4-9 p.m.\n\n\n\nThese fine art galleries look forward to hosting you for an evening of art appreciation:\n\nAbel Contemporary Gallery\, 524 East Main Street\n\nZovar Fine Art\, 143 East Main Street\n\nGrand Inspired\, 501 East Main Street\n\nWoodland Studios\, 195 East Main Street\n\nOvert Space\, 130 East Main Street\n\nGreen Road Pottery (Yahara Chocolate & Tea)\, 261 West Main Street
X-ALT-DESC;FMTTYPE=text/html:<strong>Come to Stoughton for Spring Gallery Night at six fine art galleries!</strong><br />\n<span style="font-family:verdana\,sans-serif">Art aficionado or not\, come enjoy Stoughton Gallery Night\, with over 150 artists&rsquo\; work displayed in six locations\, all in the beautiful Arts &amp\; Entertainment District of downtown Stoughton. Many artists will be on hand to demonstrate and discuss their art.</span><br />\n<br />\n<span style="font-family:verdana\,sans-serif">Saturday\, May 11\, 2024\, 4-9 p.m.</span><br />\n<br />\n<span style="font-family:verdana\,sans-serif">These fine art galleries look forward to hosting you for an evening of art appreciation:</span><br />\n<span style="font-family:verdana\,sans-serif"><a href="https://abelcontemporary.com/">Abel Contemporary Gallery</a>\, 524 East Main Street<br />\n<a href="https://zovar.com/">Zovar Fine Art</a>\, 143 East Main Street</span><br />\n<span style="font-family:verdana\,sans-serif"><a href="https://grandinspired.com/">Grand Inspired</a>\, 501 East Main Street<br />\n<a href="https://www.woodland-studios.com/">Woodland Studios</a>\, 195 East Main Street<br />\n<a href="https://overtspace.com/">Overt Space</a>\, 130 East Main Street<br />\n<a href="https://greenroadpottery.com/wp/">Green Road Pottery</a> (Yahara Chocolate &amp\; Tea)\, 261 West Main Street</span>
LOCATION:524 East Main Street\, Stoughton\, 501 East Main Street\, Stoughton\, 195 East Main Street\, Stoughton\, 143 East Main Street\, Stoughton\, 130 East Main Street\, Stoughton\, 261 West Main Street\, Stoughton
UID:e.3020.11871
SEQUENCE:3
DTSTAMP:20260420T022754Z
URL:https://www.stoughtonwi.com/events/details/stoughton-gallery-night-11871
END:VEVENT

END:VCALENDAR
