BEGIN:VCALENDAR
VERSION:2.0
PRODID:-//ChamberMaster//Event Calendar 2.0//EN
METHOD:PUBLISH
X-PUBLISHED-TTL:P3D
REFRESH-INTERVAL:P3D
CALSCALE:GREGORIAN
BEGIN:VEVENT
DTSTART:20240504T131500Z
DTEND:20240504T170000Z
X-MICROSOFT-CDO-ALLDAYEVENT:FALSE
SUMMARY:Stoughton Kiwanis Disc Golf Rally
DESCRIPTION:The annual Stoughton Kiwanis Disc Golf Rally for 2024 will be held the morning of Saturday\, May 4\, at the Kiwanis Disc Golf Course at Amundson Park in Stoughton\, Wisconsin.\n\nThe focus of this event is fun for both beginners and more experienced players. Come see the refreshed course and plans for an additional nine baskets in the future.\n\nNew this year are two divisions:\n\n	A Recreational Division (with two subdivisions: 12 and under\; and 13 and older) which is free with gift cards / certificates for prizes. The tournament is nine holes\, but participants can play a second round of nine holes for fun if they'd like.\n	A Competitive Division\, which has a $20 entry fee\, with all money collected going to cash prizes for first\, second\, and third place. The Competitive Division will be a random pairs tournament in which each pair plays the best first throw and then alternates who takes each subsequent throw for that hole. Prizes will be split equally between the members of the winning pair.\n\nSide games for gift cards / certificates are included for all participants: (a) a putting game that can be played before\, in between\, or after the golf course rounds with prizes for both the competitive and the recreational divisions\; (b) two holes with a closest to the pin contest\; and (c) an aces pool with one winner chosen at random from everyone with an ace.\n\nCheck In / Registration: 8:15   8:45 am\n\nPlayer's Meeting: 8:45 am\n\nTee Off (shotgun): 9:00 am\n\nRound 1: 9 holes\n\nRound 2: 9 holes\n\nWe expect Round 1 (9 holes) will last from 9:00 am to roughly 10:15 to 10:30 am. As participants finish and arrive back at hole 1\, there will be a short break.\n\nFor the Recreational Division\, we will tally scores for the first nine holes and award prizes during the break\, including the Recreational Division putting contest. Recreational Division participants can then call it a day or continue for an optional second round of nine holes just for fun.\n\nThe Competitive Division players will continue for a second round of nine holes whenever they are ready but no later than 10:45 am. We expect them to complete the second round sometime between 11:30 and 11: 45 am. We will then tally the scores and award prizes for the Competitive Division along with the prizes for the aces pool\, closest to the pin contests\, and the Competitive Division's putting contest. Everything should wrap up no later than noon.\n\nSign up for rally updates (including weather news) here: https://kiwanisclubofstoughton.eo.page/discgolfrally
X-ALT-DESC;FMTTYPE=text/html:<span style="background-color:rgb(255\, 255\, 255)\; color:rgb(51\, 51\, 51)\; font-family:sans-serif\,arial\,verdana\,trebuchet ms\; font-size:13px">The annual Stoughton Kiwanis Disc Golf Rally for 2024 will be held the morning of Saturday\, May 4\, at the Kiwanis Disc Golf Course at Amundson Park in Stoughton\, Wisconsin.</span><br />\n<span style="background-color:rgb(255\, 255\, 255)\; color:rgb(51\, 51\, 51)\; font-family:sans-serif\,arial\,verdana\,trebuchet ms\; font-size:13px">The focus of this event is fun for both beginners and more experienced players. Come see the refreshed course and plans for an additional nine baskets in the future.</span><br />\n<span style="background-color:rgb(255\, 255\, 255)\; color:rgb(51\, 51\, 51)\; font-family:sans-serif\,arial\,verdana\,trebuchet ms\; font-size:13px">New this year are two divisions:</span>\n<ul>\n	<li>A Recreational Division (with two subdivisions: 12 and under\; and 13 and older) which is free with gift cards / certificates for prizes. The tournament is nine holes\, but participants can play a second round of nine holes for fun if they&rsquo\;d like.</li>\n	<li>A Competitive Division\, which has a $20 entry fee\, with all money collected going to cash prizes for first\, second\, and third place. The Competitive Division will be a random pairs tournament in which each pair plays the best first throw and then alternates who takes each subsequent throw for that hole. Prizes will be split equally between the members of the winning pair.</li>\n</ul>\n<span style="background-color:rgb(255\, 255\, 255)\; color:rgb(51\, 51\, 51)\; font-family:sans-serif\,arial\,verdana\,trebuchet ms\; font-size:13px">Side games for gift cards / certificates are included for all participants: (a) a putting game that can be played before\, in between\, or after the golf course rounds with prizes for both the competitive and the recreational divisions\; (b) two holes with a closest to the pin contest\; and (c) an aces pool with one winner chosen at random from everyone with an ace.</span><br />\n<span style="background-color:rgb(255\, 255\, 255)\; color:rgb(51\, 51\, 51)\; font-family:sans-serif\,arial\,verdana\,trebuchet ms\; font-size:13px">Check In / Registration: 8:15 &ndash\; 8:45 am</span><br />\n<span style="background-color:rgb(255\, 255\, 255)\; color:rgb(51\, 51\, 51)\; font-family:sans-serif\,arial\,verdana\,trebuchet ms\; font-size:13px">Player&rsquo\;s Meeting: 8:45 am</span><br />\n<span style="background-color:rgb(255\, 255\, 255)\; color:rgb(51\, 51\, 51)\; font-family:sans-serif\,arial\,verdana\,trebuchet ms\; font-size:13px">Tee Off (shotgun): 9:00 am</span><br />\n<span style="background-color:rgb(255\, 255\, 255)\; color:rgb(51\, 51\, 51)\; font-family:sans-serif\,arial\,verdana\,trebuchet ms\; font-size:13px">Round 1: 9 holes</span><br />\n<span style="background-color:rgb(255\, 255\, 255)\; color:rgb(51\, 51\, 51)\; font-family:sans-serif\,arial\,verdana\,trebuchet ms\; font-size:13px">Round 2: 9 holes</span><br />\n<span style="background-color:rgb(255\, 255\, 255)\; color:rgb(51\, 51\, 51)\; font-family:sans-serif\,arial\,verdana\,trebuchet ms\; font-size:13px">We expect Round 1 (9 holes) will last from 9:00 am to roughly 10:15 to 10:30 am. As participants finish and arrive back at hole 1\, there will be a short break.</span><br />\n<span style="background-color:rgb(255\, 255\, 255)\; color:rgb(51\, 51\, 51)\; font-family:sans-serif\,arial\,verdana\,trebuchet ms\; font-size:13px">For the Recreational Division\, we will tally scores for the first nine holes and award prizes during the break\, including the Recreational Division putting contest. Recreational Division participants can then call it a day or continue for an optional second round of nine holes just for fun.</span><br />\n<span style="background-color:rgb(255\, 255\, 255)\; color:rgb(51\, 51\, 51)\; font-family:sans-serif\,arial\,verdana\,trebuchet ms\; font-size:13px">The Competitive Division players will continue for a second round of nine holes whenever they are ready but no later than 10:45 am. We expect them to complete the second round sometime between 11:30 and 11: 45 am. We will then tally the scores and award prizes for the Competitive Division along with the prizes for the aces pool\, closest to the pin contests\, and the Competitive Division&rsquo\;s putting contest. Everything should wrap up no later than noon.</span><br />\n<span style="background-color:rgb(255\, 255\, 255)\; color:rgb(51\, 51\, 51)\; font-family:sans-serif\,arial\,verdana\,trebuchet ms\; font-size:13px">Sign up for rally updates (including weather news) here:&nbsp\;</span><a href="https://kiwanisclubofstoughton.eo.page/discgolfrally" style="color: rgb(7\, 130\, 193)\; font-family: sans-serif\, Arial\, Verdana\, &quot\;Trebuchet MS&quot\;\; font-size: 13px\;">https://kiwanisclubofstoughton.eo.page/discgolfrally</a>
LOCATION:Amundson Park in Stoughton\, Wisconsin.
UID:e.3020.11854
SEQUENCE:3
DTSTAMP:20260420T022834Z
URL:https://www.stoughtonwi.com/events/details/stoughton-kiwanis-disc-golf-rally-11854
END:VEVENT

END:VCALENDAR
