BEGIN:VCALENDAR
VERSION:2.0
PRODID:-//ChamberMaster//Event Calendar 2.0//EN
METHOD:PUBLISH
X-PUBLISHED-TTL:P3D
REFRESH-INTERVAL:P3D
CALSCALE:GREGORIAN
BEGIN:VEVENT
DTSTART:20240526T180000Z
DTEND:20240526T210000Z
X-MICROSOFT-CDO-ALLDAYEVENT:FALSE
SUMMARY:Stoughton Merchants vs. Evansville Jays
DESCRIPTION:Your Stoughton Merchants host the Evansville Jays in Home Talent Baseball Sunday League action! Full concessions will be available!
X-ALT-DESC;FMTTYPE=text/html:Your Stoughton Merchants host the Evansville Jays in Home Talent Baseball Sunday League action! Full concessions will be available!
LOCATION:Norse Park
UID:e.3020.11861
SEQUENCE:3
DTSTAMP:20260420T023054Z
URL:https://www.stoughtonwi.com/events/details/stoughton-merchants-vs-evansville-jays-11861
END:VEVENT

END:VCALENDAR
