BEGIN:VCALENDAR
VERSION:2.0
PRODID:-//ChamberMaster//Event Calendar 2.0//EN
METHOD:PUBLISH
X-PUBLISHED-TTL:P3D
REFRESH-INTERVAL:P3D
CALSCALE:GREGORIAN
BEGIN:VEVENT
DTSTART:20240523T231500Z
DTEND:20240524T013000Z
X-MICROSOFT-CDO-ALLDAYEVENT:FALSE
SUMMARY:Stoughton Merchants vs Jefferson Blue Devils
DESCRIPTION:Your Stoughton Merchants host the Blue Devils of Jefferson in Home Talent Night League baseball action! Drinks and snacks will be available for concessions!
X-ALT-DESC;FMTTYPE=text/html:Your Stoughton Merchants host the Blue Devils of Jefferson in Home Talent Night League baseball action! Drinks and snacks will be available for concessions!
LOCATION:Norse Park
UID:e.3020.11860
SEQUENCE:3
DTSTAMP:20260420T021851Z
URL:https://www.stoughtonwi.com/events/details/stoughton-merchants-vs-jefferson-blue-devils-11860
END:VEVENT

END:VCALENDAR
