BEGIN:VCALENDAR
VERSION:2.0
PRODID:-//ChamberMaster//Event Calendar 2.0//EN
METHOD:PUBLISH
X-PUBLISHED-TTL:P3D
REFRESH-INTERVAL:P3D
CALSCALE:GREGORIAN
BEGIN:VEVENT
DTSTART:20240707T180000Z
DTEND:20240707T210000Z
X-MICROSOFT-CDO-ALLDAYEVENT:FALSE
SUMMARY:Stoughton Merchants vs. McFarland Muskies
DESCRIPTION:Your Stoughton Merchants host the McFarland Muskies in Home Talent Baseball Sunday League action! Full concessions will be available!
X-ALT-DESC;FMTTYPE=text/html:Your Stoughton Merchants host the McFarland Muskies in Home Talent Baseball Sunday League action! Full concessions will be available!
LOCATION:Norse Park
UID:e.3020.11865
SEQUENCE:3
DTSTAMP:20260420T064213Z
URL:https://www.stoughtonwi.com/events/details/stoughton-merchants-vs-mcfarland-muskies-11865
END:VEVENT

END:VCALENDAR
