BEGIN:VCALENDAR
VERSION:2.0
PRODID:-//ChamberMaster//Event Calendar 2.0//EN
METHOD:PUBLISH
X-PUBLISHED-TTL:P3D
REFRESH-INTERVAL:P3D
CALSCALE:GREGORIAN
BEGIN:VEVENT
DTSTART:20240711T231500Z
DTEND:20240712T013000Z
X-MICROSOFT-CDO-ALLDAYEVENT:FALSE
SUMMARY:Stoughton Merchants vs. Sun Prairie Red Birds
DESCRIPTION:Your Stoughton Merchants host the Sun Prairie Red Birds Firemen in Home Talent Baseball Night League action! Drinks and snacks will be available for concessions\, but no grilled items.
X-ALT-DESC;FMTTYPE=text/html:Your Stoughton Merchants host the Sun Prairie Red Birds Firemen in Home Talent Baseball Night League action! Drinks and snacks will be available for concessions\, but no grilled items.
LOCATION:Norse Park
UID:e.3020.11866
SEQUENCE:3
DTSTAMP:20260420T091106Z
URL:https://www.stoughtonwi.com/events/details/stoughton-merchants-vs-sun-prairie-red-birds-11866
END:VEVENT

END:VCALENDAR
