BEGIN:VCALENDAR
VERSION:2.0
PRODID:-//ChamberMaster//Event Calendar 2.0//EN
METHOD:PUBLISH
X-PUBLISHED-TTL:P3D
REFRESH-INTERVAL:P3D
CALSCALE:GREGORIAN
BEGIN:VEVENT
DTSTART:20240316T193000Z
DTEND:20240316T213000Z
X-MICROSOFT-CDO-ALLDAYEVENT:FALSE
SUMMARY:Stoughton Village Players Present "It Takes a Village!" Variety Show
DESCRIPTION:Stoughton Village Players Celebrate 50 Years with\n\nIt Takes A Village! Variety Show\n \n\nStoughton Village Players is celebrating it's 50th anniversary with a variety show presenting scenes from some of the 134 shows in it's history. \n\nOver 40 cast members from in and around the Stoughton community are presenting a range of musical\, comedy and dramatic scenes with highlights from the many "Syttende Mai" shows\, musicals like "Annie" (featuring the Stoughton Youth Players cast from local elementary and middle school students)\, "Music Man\," "Company\," "Little Shop of Horrors\," "Annie Get Your Gun\," "Nunsense\," and more! \n\n \n\nThis family friendly show is running one weekend only - Thursday\, March 14th at 7:00pm\, Friday\, March 15th at 7:00pm\, and Saturday\, March 16th at 2:30pm and 7:00pm.\n\n \n\nBrooke Hauser and Tracy Markle direct and produce. All performances will take place in the Stoughton Village Players Theater at 255 E. Main St. Tickets ($20) are available online https://www.showtix4u.com/event-details/81073\n\n\n\nFeaturing: Brian Amidei\, Linda Kunz\, Jonathan & Solveig Schroerlucke\, Tony Hill\, Gary Smithback\, Arlen Minor\, Carol Gunnelson\, Karen Gilbert\, Nicole Hale\, Bridgette Bissell\, Alli Buckets\, Evelyn Becker\, Elizabeth Itzen\, Dan Prueher\, Paul Shableski\, Bethany Pluymers\, Raven Jensen\, Jerry Lapidakis\, Kaleb Haefner\, Nicole Hale\, Tim Markle\, Mark Wegner\, Dan Presser\, and the Stoughton Youth Players.
X-ALT-DESC;FMTTYPE=text/html:<p style="text-align:center"><strong>Stoughton Village Players Celebrate 50 Years with</strong><br />\n<em>It Takes A Village!&nbsp\;</em><strong>Variety Show</strong></p>\n&nbsp\;\n\n<p><span style="background-color:transparent\; color:rgb(0\, 0\, 0)\; font-family:arial\,sans-serif\; font-size:10pt">Stoughton Village Players is celebrating it&#39\;s 50th anniversary with a variety show presenting scenes from some of the 134 shows in it&#39\;s history.&nbsp\;</span></p>\n\n<p><span style="background-color:transparent\; color:rgb(0\, 0\, 0)\; font-family:arial\,sans-serif\; font-size:10pt">Over 40 cast members from in and around the Stoughton community are presenting a range of musical\, comedy and dramatic scenes with highlights from the many &quot\;Syttende Mai&quot\; shows\, musicals like &quot\;Annie&quot\; (featuring the Stoughton Youth Players cast from local elementary and middle school students)\, &quot\;Music Man\,&quot\; &quot\;Company\,&quot\; &quot\;Little Shop of Horrors\,&quot\; &quot\;Annie Get Your Gun\,&quot\; &quot\;Nunsense\,&quot\; and more!&nbsp\;</span></p>\n\n<p>&nbsp\;</p>\n\n<p><span style="background-color:transparent\; color:rgb(0\, 0\, 0)\; font-family:arial\,sans-serif\; font-size:10pt">This family friendly show is running one weekend only - Thursday\, March 14th at 7:00pm\, Friday\, March 15th at 7:00pm\, and Saturday\, March 16th at 2:30pm and 7:00pm.</span></p>\n\n<p>&nbsp\;</p>\n\n<p><span style="background-color:transparent\; color:rgb(0\, 0\, 0)\; font-family:arial\,sans-serif\; font-size:10pt">Brooke Hauser and Tracy Markle direct and produce. All performances will take place in the Stoughton Village Players Theater at 255 E. Main St. Tickets ($20) are available online&nbsp\;</span><a href="https://www.showtix4u.com/event-details/81073" style="-webkit-font-smoothing: antialiased\; color: rgb(17\, 85\, 204)\; text-decoration-line: none\;" target="_blank"><span style="background-color:transparent\; font-family:arial\,sans-serif\; font-size:10pt">https://www.showtix4u.com/event-details/81073</span></a></p>\n\n<p><br />\n<span style="background-color:transparent\; color:rgb(0\, 0\, 0)\; font-family:arial\,sans-serif\; font-size:10pt">Featuring: Brian Amidei\, Linda Kunz\, Jonathan &amp\; Solveig Schroerlucke\, Tony Hill\, Gary Smithback\, Arlen Minor\, Carol Gunnelson\, Karen Gilbert\, Nicole Hale\, Bridgette Bissell\, Alli Buckets\, Evelyn Becker\, Elizabeth Itzen\, Dan Prueher\, Paul Shableski\, Bethany Pluymers\, Raven Jensen\, Jerry Lapidakis\, Kaleb Haefner\, Nicole Hale\, Tim Markle\, Mark Wegner\, Dan Presser\, and the Stoughton Youth Players.&nbsp\;</span></p>\n
LOCATION:Stoughton Village Players Theater\, 255 E. Main St.\, Stoughton\, WI 53589
UID:e.3020.11784
SEQUENCE:3
DTSTAMP:20260420T023230Z
URL:https://www.stoughtonwi.com/events/details/stoughton-village-players-present-it-takes-a-village-variety-show-03-16-2024-11784
END:VEVENT

END:VCALENDAR
