BEGIN:VCALENDAR
VERSION:2.0
PRODID:-//ChamberMaster//Event Calendar 2.0//EN
METHOD:PUBLISH
X-PUBLISHED-TTL:P3D
REFRESH-INTERVAL:P3D
CALSCALE:GREGORIAN
BEGIN:VEVENT
DTSTART:20211014T220000Z
DTEND:20211015T010000Z
X-MICROSOFT-CDO-ALLDAYEVENT:FALSE
SUMMARY:Stoughton Wine Walk
DESCRIPTION:Stoughton offers one-of-a-kind shops and a vibrant arts district. The wine walk is a great way to explore these shops and have a great time with your friends.\n\n\n\nTickets are $40 and sales begin Wednesday\, September 8 at 8am! Only 300 tickets are available. \n\nThis exciting event also helps us raise money for the Chamber's Rae Ladd Volunteer Scholarship Fund. For the past 10 years\, the wine walk committee has been honored to present a scholarship to a Stoughton High School senior who has demonstrated active volunteerism This event will help us continue to reward our young active citizens. \n\n\n\nMust be 21+ to participate. Sorry\, no refunds.
X-ALT-DESC;FMTTYPE=text/html:<p>Stoughton offers one-of-a-kind shops and a vibrant arts district. The wine walk is a great way to explore these shops and have a great time with your friends.<br />\n<br />\nTickets are $40 and sales begin Wednesday\, September 8 at 8am! Only 300 tickets are available.&nbsp\;</p>\n\n<p>This exciting event&nbsp\;also helps us raise money for the Chamber&#39\;s Rae Ladd Volunteer Scholarship Fund. For the past 10 years\, the wine walk committee has been honored to present a scholarship to a Stoughton High School senior who has demonstrated active volunteerism This event will help us continue to reward our young active citizens.&nbsp\;<br />\n<br />\nMust be 21+ to participate. Sorry\, no refunds.&nbsp\;</p>\n
LOCATION:Downtown Stoughton
UID:e.3020.5588
SEQUENCE:3
DTSTAMP:20260424T160017Z
URL:https://www.stoughtonwi.com/events/details/stoughton-wine-walk-5588
END:VEVENT

END:VCALENDAR
