BEGIN:VCALENDAR
VERSION:2.0
PRODID:-//ChamberMaster//Event Calendar 2.0//EN
METHOD:PUBLISH
X-PUBLISHED-TTL:P3D
REFRESH-INTERVAL:P3D
CALSCALE:GREGORIAN
BEGIN:VEVENT
DTSTART:20240410T230000Z
DTEND:20240411T000000Z
X-MICROSOFT-CDO-ALLDAYEVENT:FALSE
SUMMARY:Strategies to Prevent Basement Flooding
DESCRIPTION:Ever had water in your basement? Whether it's a recurring issue or has only happened in extreme weather\, in most cases it can be avoided. With some basic landscaping tools\, most homeowners can address this problem on their own no heavy machinery required!\n\n\n\nThis program is presented by Project Home Wisconsin and sponsored by MG&E.\n\n\n\nNo registration is required\, but sign up for an email or text reminder if you like: https://stoughtonpubliclibrary.evanced.info/signup/EventDetails?EventId=146
X-ALT-DESC;FMTTYPE=text/html:<span style="font-size:12.0pt">Ever had water in your basement? Whether it&rsquo\;s a recurring issue or has only happened in extreme weather\, in most cases it can be avoided. With some basic landscaping tools\, most homeowners can address this problem on their own&mdash\;no heavy machinery required!<br />\n<br />\nThis program is presented by Project Home Wisconsin and sponsored by MG&amp\;E.<br />\n<br />\nNo registration is required\, but sign up for an email or text reminder if you like: https://stoughtonpubliclibrary.evanced.info/signup/EventDetails?EventId=146</span><br />\n&nbsp\;
LOCATION:Stoughton Public Library
UID:e.3020.11795
SEQUENCE:3
DTSTAMP:20260420T011055Z
URL:https://www.stoughtonwi.com/events/details/strategies-to-prevent-basement-flooding-11795
END:VEVENT

END:VCALENDAR
