BEGIN:VCALENDAR
VERSION:2.0
PRODID:-//ChamberMaster//Event Calendar 2.0//EN
METHOD:PUBLISH
X-PUBLISHED-TTL:P3D
REFRESH-INTERVAL:P3D
CALSCALE:GREGORIAN
BEGIN:VEVENT
DTSTART:20240721T210000Z
DTEND:20240721T230000Z
X-MICROSOFT-CDO-ALLDAYEVENT:FALSE
SUMMARY:Sunday Night Kubb at the Arneson Pitch
DESCRIPTION:Sunday Afternoon Kubb at the Arneson Pitch 2024 Sons of Norway- Mandt Lodge will have informal kubb practice and instruction each Sunday night at 4 PM at the Arneson farm on Sunday nights in June and July. The farm is located at 2056 Skaalen Road just east of Stoughton. All are welcome to come- no need to sign up as you can just come out with friends and family. If you have never played\, this is a great way to learn. And if you know how\, a great chance to practice and socialize! Park by the shed and the pitch is there and we have sets to use. We will have one practice before the tournament on Sunday\, May 5 at 4 PM. The other dates are June 2\, June 9\, June 16\, June 23\, June 30\, July 7\, July 14\, July 21\, and July 28. For more information\, contact Sports Directors Jens Arneson (jensoarneson@gmail.com) or Todd Fossum at todd.r.fossum@gmail.com.\n\n\n\nNew to kubb? Here are some places to learn more about it!\n\n	How to play   \n	Rules \n	Stoughton Kubb Club
X-ALT-DESC;FMTTYPE=text/html:Sunday Afternoon Kubb at the Arneson Pitch 2024 Sons of Norway- Mandt Lodge will have informal kubb practice and instruction each Sunday night at 4 PM at the Arneson farm on Sunday nights in June and July. The farm is located at 2056 Skaalen Road just east of Stoughton. All are welcome to come- no need to sign up as you can just come out with friends and family. If you have never played\, this is a great way to learn. And if you know how\, a great chance to practice and socialize! Park by the shed and the pitch is there and we have sets to use. We will have one practice before the tournament on Sunday\, May 5 at 4 PM. The other dates are June 2\, June 9\, June 16\, June 23\, June 30\, July 7\, July 14\, July 21\, and July 28. For more information\, contact Sports Directors Jens Arneson (jensoarneson@gmail.com) or Todd Fossum at todd.r.fossum@gmail.com.<br />\n<br />\nNew to kubb? Here are some places to learn more about it!\n<ul>\n	<li><a href="https://youtu.be/XfWt0-_MNsY">How to play&nbsp\;&nbsp\;</a>&nbsp\;</li>\n	<li><a href="http://www.kubbunited.com/rules-of-kubb">Rules</a>&nbsp\;</li>\n	<li><a href="https://www.facebook.com/stoughtonkubbclub/.">Stoughton Kubb Club</a></li>\n</ul>\n
LOCATION:Arneson Farm 2056 Skaalen Rd\, Stoughton\, WI 53589
UID:e.3020.11921
SEQUENCE:3
DTSTAMP:20260420T080349Z
URL:https://www.stoughtonwi.com/events/details/sunday-night-kubb-at-the-arneson-pitch-07-21-2024-11921
END:VEVENT

END:VCALENDAR
