BEGIN:VCALENDAR
VERSION:2.0
PRODID:-//ChamberMaster//Event Calendar 2.0//EN
METHOD:PUBLISH
X-PUBLISHED-TTL:P3D
REFRESH-INTERVAL:P3D
CALSCALE:GREGORIAN
BEGIN:VEVENT
DTSTART:20240518T170000Z
DTEND:20240518T230000Z
X-MICROSOFT-CDO-ALLDAYEVENT:FALSE
SUMMARY:Syttende Mai Bud Vase
DESCRIPTION:Take home a beautiful memory of Syttende Mai 2024. Select from a variety of wood\, then woodburn or handpaint a bud vase with your favorite rosemaling design and colors. We'll use stencils produced in our shop so that your rosemaling designs are perfect. Use traditional colors or create an updated look with colors that you love.\n\n$30.00 includes all materials.  Suitable for any age.  Under 14 with adult.
X-ALT-DESC;FMTTYPE=text/html:<p>Take home a beautiful memory of Syttende Mai 2024. Select from a variety of wood\, then woodburn or handpaint a bud vase with your favorite rosemaling design and colors.&nbsp\;We&rsquo\;ll use stencils produced in our shop so that your rosemaling designs are perfect. Use traditional colors or create an updated look with colors that you love.</p>\n\n<p>$30.00 includes all materials.&nbsp\; Suitable for any age.&nbsp\; Under 14 with adult.</p>\n
LOCATION:Grand Inspired Gallery & Makerspace 501 E Main St.\, Stoughton\, WI 608-205-2015
UID:e.3020.11848
SEQUENCE:3
DTSTAMP:20260421T134528Z
URL:https://www.stoughtonwi.com/events/details/syttende-mai-bid-vase-05-18-2024-11848
END:VEVENT

END:VCALENDAR
