BEGIN:VCALENDAR
VERSION:2.0
PRODID:-//ChamberMaster//Event Calendar 2.0//EN
METHOD:PUBLISH
X-PUBLISHED-TTL:P3D
REFRESH-INTERVAL:P3D
CALSCALE:GREGORIAN
BEGIN:VEVENT
DTSTART:20240602T190000Z
DTEND:20240602T220000Z
X-MICROSOFT-CDO-ALLDAYEVENT:FALSE
SUMMARY:Tailgaters Meat Raffle
DESCRIPTION:Tailgaters Meat Raffle!  Win meat\, drinks and prizes.  10 rounds with 4 chances to win each round!
X-ALT-DESC;FMTTYPE=text/html:Tailgaters Meat Raffle! &nbsp\;Win meat\, drinks and prizes. &nbsp\;10 rounds with 4 chances to win each round!
LOCATION:Tailgaters of Stoughton 151 E. Main Street Stoughton\, WI 53589
UID:e.3020.11000
SEQUENCE:3
DTSTAMP:20260420T035934Z
URL:https://www.stoughtonwi.com/events/details/tailgaters-meat-raffle-06-02-2024-11000
END:VEVENT

END:VCALENDAR
