BEGIN:VCALENDAR
VERSION:2.0
PRODID:-//ChamberMaster//Event Calendar 2.0//EN
METHOD:PUBLISH
X-PUBLISHED-TTL:P3D
REFRESH-INTERVAL:P3D
CALSCALE:GREGORIAN
BEGIN:VEVENT
DTSTART:20240418T173000Z
DTEND:20240418T190000Z
X-MICROSOFT-CDO-ALLDAYEVENT:FALSE
SUMMARY:Tea Cup Flower Arranging
DESCRIPTION:Celebrate the season by creating a tea cup flower arrangement! Bring your out tea cup and saucer or choose from one we have. Rose Helms will guide you through making the perfect arrangement. Flowers donated by Exclusively Roses. Space is limited so please register at 608-873-8585.
X-ALT-DESC;FMTTYPE=text/html:Celebrate the season by creating a tea cup flower arrangement! Bring your out tea cup and saucer or choose from one we have. Rose Helms will guide you through making the perfect arrangement. Flowers donated by Exclusively Roses. Space is limited so please register at 608-873-8585.
LOCATION:Stoughton Area Senior Center 248 W. Main St
UID:e.3020.11804
SEQUENCE:3
DTSTAMP:20260419T234534Z
URL:https://www.stoughtonwi.com/events/details/tea-cup-flower-arranging-11804
END:VEVENT

END:VCALENDAR
