BEGIN:VCALENDAR
VERSION:2.0
PRODID:-//ChamberMaster//Event Calendar 2.0//EN
METHOD:PUBLISH
X-PUBLISHED-TTL:P3D
REFRESH-INTERVAL:P3D
CALSCALE:GREGORIAN
BEGIN:VEVENT
DTSTART:20240411T203000Z
DTEND:20240411T220000Z
X-MICROSOFT-CDO-ALLDAYEVENT:FALSE
SUMMARY:Teen Clay Creations at the Library
DESCRIPTION:We supply the clay\, you supply the creativity! Ages 11-16. No registration required.
X-ALT-DESC;FMTTYPE=text/html:<span style="color:black"><span style="font-size:12.0pt">We supply the clay\, you supply the creativity! Ages 11-16. No registration required.</span></span><br />\n&nbsp\;
LOCATION:Stoughton Public Library
UID:e.3020.11796
SEQUENCE:3
DTSTAMP:20260420T011120Z
URL:https://www.stoughtonwi.com/events/details/teen-clay-creations-at-the-library-11796
END:VEVENT

END:VCALENDAR
