BEGIN:VCALENDAR
VERSION:2.0
PRODID:-//ChamberMaster//Event Calendar 2.0//EN
METHOD:PUBLISH
X-PUBLISHED-TTL:P3D
REFRESH-INTERVAL:P3D
CALSCALE:GREGORIAN
BEGIN:VEVENT
DTSTART:20230309T220000Z
DTEND:20230309T230000Z
X-MICROSOFT-CDO-ALLDAYEVENT:FALSE
SUMMARY:Teen Drama & Theater Games
DESCRIPTION:Laugh your head off! We are partnering up with the Stoughton Youth Theater for an awesome hour of improv and theater games. Ages 11-16. No registration required.
X-ALT-DESC;FMTTYPE=text/html:<span style="font-size:12.0pt">Laugh your head off! We are partnering up with the Stoughton Youth Theater for an awesome hour of improv and theater games. Ages 11-16. No registration required.</span>
LOCATION:Stoughton Public Library
UID:e.3020.10094
SEQUENCE:3
DTSTAMP:20260419T220453Z
URL:https://www.stoughtonwi.com/events/details/teen-drama-theater-games-03-09-2023-10094
END:VEVENT

END:VCALENDAR
