BEGIN:VCALENDAR
VERSION:2.0
PRODID:-//ChamberMaster//Event Calendar 2.0//EN
METHOD:PUBLISH
X-PUBLISHED-TTL:P3D
REFRESH-INTERVAL:P3D
CALSCALE:GREGORIAN
BEGIN:VEVENT
DTSTART:20240418T203000Z
DTEND:20240418T220000Z
X-MICROSOFT-CDO-ALLDAYEVENT:FALSE
SUMMARY:Teen Paint and Plant at the Library
DESCRIPTION:Cynthia is sharing her plant babies! Paint a pot\, plant it up\, and take home your new plant buddy. All materials supplied. No registration required. Ages 11-16.
X-ALT-DESC;FMTTYPE=text/html:<span style="color:black"><span style="font-size:12.0pt">Cynthia is sharing her plant babies! Paint a pot\, plant it up\, and take home your new plant buddy. All materials supplied. No registration required. Ages 11-16.</span></span><br />\n&nbsp\;
LOCATION:Stoughton Public Library
UID:e.3020.11797
SEQUENCE:3
DTSTAMP:20260420T011704Z
URL:https://www.stoughtonwi.com/events/details/teen-paint-and-plant-at-the-library-11797
END:VEVENT

END:VCALENDAR
