BEGIN:VCALENDAR
VERSION:2.0
PRODID:-//ChamberMaster//Event Calendar 2.0//EN
METHOD:PUBLISH
X-PUBLISHED-TTL:P3D
REFRESH-INTERVAL:P3D
CALSCALE:GREGORIAN
BEGIN:VEVENT
DTSTART:20240606T203000Z
DTEND:20240606T220000Z
X-MICROSOFT-CDO-ALLDAYEVENT:FALSE
SUMMARY:Teen Rainbow Skirts
DESCRIPTION:The library will provide all the materials you need to make a colorful skirt! Ages 11-16. No registration required.
X-ALT-DESC;FMTTYPE=text/html:<span style="color:black"><span style="font-size:12.0pt">The library will provide all the materials you need to make a colorful skirt! Ages 11-16. No registration required.</span></span><br />\n&nbsp\;
LOCATION:Stoughton Public Library
UID:e.3020.11876
SEQUENCE:3
DTSTAMP:20260420T040040Z
URL:https://www.stoughtonwi.com/events/details/teen-rainbow-skirts-11876
END:VEVENT

END:VCALENDAR
