BEGIN:VCALENDAR
VERSION:2.0
PRODID:-//ChamberMaster//Event Calendar 2.0//EN
METHOD:PUBLISH
X-PUBLISHED-TTL:P3D
REFRESH-INTERVAL:P3D
CALSCALE:GREGORIAN
BEGIN:VEVENT
DTSTART:20240523T203000Z
DTEND:20240523T220000Z
X-MICROSOFT-CDO-ALLDAYEVENT:FALSE
SUMMARY:Teen Vision Boards at the Library
DESCRIPTION:Dream about your future and learn some mindfulness and stress-relief techniques as you create your own vision board. Presented by special guests: certified Expressive Arts Therapist Kelly Toltzien\, and Suzanne Larsen of Main Street Yoga Stoughton. Ages 11-16. No registration required.
X-ALT-DESC;FMTTYPE=text/html:<span style="font-size:12.0pt">Dream about your future and learn some mindfulness and stress-relief techniques as you create your own vision board. Presented by special guests: certified Expressive Arts Therapist Kelly Toltzien\, and Suzanne Larsen of Main Street Yoga Stoughton. Ages 11-16. No registration required.</span>
LOCATION:Stoughton Public Library
UID:e.3020.11832
SEQUENCE:3
DTSTAMP:20260420T022125Z
URL:https://www.stoughtonwi.com/events/details/teen-vision-boards-at-the-library-11832
END:VEVENT

END:VCALENDAR
