BEGIN:VCALENDAR
VERSION:2.0
PRODID:-//ChamberMaster//Event Calendar 2.0//EN
METHOD:PUBLISH
X-PUBLISHED-TTL:P3D
REFRESH-INTERVAL:P3D
CALSCALE:GREGORIAN
BEGIN:VEVENT
DTSTART:20211006T233000Z
DTEND:20211007T003000Z
X-MICROSOFT-CDO-ALLDAYEVENT:FALSE
SUMMARY:The Foundation Sci-Fi and Fantasy Book Discussion
DESCRIPTION:Copies of the selected books are available on the second floor of the library. We meet on the first Wednesday of each month at 6:30 pm. Masks required. We'll read the following books that explore the theme of Generation Ships this month:\n\nAurora by Kim Stanley Robinson\, Ship of Fools by Richard Paul Russo\, and/or Orphans of the Sky by Robert Heinlein
X-ALT-DESC;FMTTYPE=text/html:Copies of the selected books are available on the second floor of the library. We meet&nbsp\;on the first Wednesday of each month at 6:30 pm. Masks required. We&rsquo\;ll read the following books that explore the theme of Generation Ships this month:<br />\n<em>Aurora </em>by Kim Stanley Robinson\, <em>Ship of Fools</em> by Richard Paul Russo\, and/or <em>Orphans of the Sky</em> by Robert Heinlein<br />\n&nbsp\;
LOCATION:Stoughton Public Library\, Carnegie Meeting Room
UID:e.3020.7254
SEQUENCE:3
DTSTAMP:20260424T173726Z
URL:https://www.stoughtonwi.com/events/details/the-foundation-sci-fi-and-fantasy-book-discussion-7254
END:VEVENT

END:VCALENDAR
