BEGIN:VCALENDAR
VERSION:2.0
PRODID:-//ChamberMaster//Event Calendar 2.0//EN
METHOD:PUBLISH
X-PUBLISHED-TTL:P3D
REFRESH-INTERVAL:P3D
CALSCALE:GREGORIAN
BEGIN:VEVENT
DTSTART;VALUE=DATE:20230428
DTEND;VALUE=DATE:20230430
TRANSP:TRANSPARENT
X-MICROSOFT-CDO-ALLDAYEVENT:TRUE
SUMMARY:The Great Craft Swap
DESCRIPTION:Swap out your old\, unwanted art and craft supplies for treasures from someone else's collection! Drop off your donations Friday afternoon and Saturday morning\, and receive a free ticket to the Donor Early Access Hour at noon on Saturday. Afterwards\, everyone is welcome to browse and take home supplies on Saturday afternoon\, 1-4pm. Please check our list of items we will not accept before you drop off: https://www.stoughtonpubliclibrary.org/craft-swap-donation-list\n\nRegistration is not required\, but you can sign up for an email or text reminder here if you like: https://stoughtonpubliclibrary.evanced.info/signup/EventDetails?EventId=57
X-ALT-DESC;FMTTYPE=text/html:<span style="font-size:12.0pt">Swap out your old\, unwanted art and craft supplies for treasures from someone else&#39\;s collection! Drop off your donations Friday afternoon and Saturday morning\, and receive a free ticket to the Donor Early Access Hour at noon on Saturday. Afterwards\, everyone is welcome to browse and take home supplies on Saturday afternoon\, 1-4pm. Please check our list of items we will not accept before you drop off: https://www.stoughtonpubliclibrary.org/craft-swap-donation-list</span><br />\n<span style="font-size:12.0pt">Registration is not required\, but you can sign up for an email or text reminder here if you like: https://stoughtonpubliclibrary.evanced.info/signup/EventDetails?EventId=57</span><br />\n&nbsp\;
LOCATION:Stoughton Public Library
UID:e.3020.10217
SEQUENCE:3
DTSTAMP:20260424T140258Z
URL:https://www.stoughtonwi.com/events/details/the-great-craft-swap-10217
END:VEVENT

END:VCALENDAR
