BEGIN:VCALENDAR
VERSION:2.0
PRODID:-//ChamberMaster//Event Calendar 2.0//EN
METHOD:PUBLISH
X-PUBLISHED-TTL:P3D
REFRESH-INTERVAL:P3D
CALSCALE:GREGORIAN
BEGIN:VEVENT
DTSTART:20240430T180000Z
DTEND:20240430T190000Z
X-MICROSOFT-CDO-ALLDAYEVENT:FALSE
SUMMARY:Traveling with Lewis & Clark
DESCRIPTION:Ready for an epic trip? Come experience parts of a journey that shaped America\, the Louis and Clark trail of discovery. Nancy Hagen will summarize the Corps of Discovery's extraordinary adventure through her and her husband's camping experiences. Held in the Annex.
X-ALT-DESC;FMTTYPE=text/html:Ready for an epic trip? Come experience parts of a journey that shaped America\, the Louis and Clark trail of discovery. Nancy Hagen will summarize the Corps of Discovery&rsquo\;s extraordinary adventure through her and her husband&rsquo\;s camping experiences. Held in the Annex.
LOCATION:Stoughton Senior Center 248 W. Mian St.
UID:e.3020.11809
SEQUENCE:3
DTSTAMP:20260419T234720Z
URL:https://www.stoughtonwi.com/events/details/traveling-with-lewis-clark-11809
END:VEVENT

END:VCALENDAR
