BEGIN:VCALENDAR
VERSION:2.0
PRODID:-//ChamberMaster//Event Calendar 2.0//EN
METHOD:PUBLISH
X-PUBLISHED-TTL:P3D
REFRESH-INTERVAL:P3D
CALSCALE:GREGORIAN
BEGIN:VEVENT
DTSTART:20240731T180000Z
DTEND:20240731T190000Z
X-MICROSOFT-CDO-ALLDAYEVENT:FALSE
SUMMARY:Virtual Reality Games
DESCRIPTION:Why should the kids have all the fun? Join the Library at the Senior Center to try virtual reality gaming. They will have active games\, as well as ones that can be played sitting down.
X-ALT-DESC;FMTTYPE=text/html:Why should the kids have all the fun? Join the Library at the Senior Center to try virtual reality gaming. They will have active games\, as well as ones that can be played sitting down.
LOCATION:Stoughton Area Senior Center 248 W. Main St.
UID:e.3020.11945
SEQUENCE:3
DTSTAMP:20260420T074818Z
URL:https://www.stoughtonwi.com/events/details/virtual-reality-games-11945
END:VEVENT

END:VCALENDAR
