BEGIN:VCALENDAR
VERSION:2.0
PRODID:-//ChamberMaster//Event Calendar 2.0//EN
METHOD:PUBLISH
X-PUBLISHED-TTL:P3D
REFRESH-INTERVAL:P3D
CALSCALE:GREGORIAN
BEGIN:VEVENT
DTSTART:20240730T233000Z
DTEND:20240731T004500Z
X-MICROSOFT-CDO-ALLDAYEVENT:FALSE
SUMMARY:Virtual Reality Games: Grown-Up Edition
DESCRIPTION:NOTE: THE SENIOR CENTER SESSION ON JULY 31 HAS BEEN CANCELED\n\n\n\nWhy should the kids have all the fun? Join us at the Library to try virtual reality games like Beat Saber\, Epic Roller Coasters\, and Fruit Ninja on the Oculus Rift! We have a variety of games for people who want to be up and active on their feet\, or people who want a slower-paced game that can be played sitting down. Feel free to bring your children along\, but during these sessions we will prioritize adult players who want to try out virtual reality gaming.\n\n\n\nNo registration required\, but sign up for an email reminder if you like: https://events.getlocalhop.com/virtual-reality-games-grownup-edition/event/75teGTQ6Qb/
X-ALT-DESC;FMTTYPE=text/html:NOTE: THE SENIOR CENTER SESSION ON JULY 31 HAS BEEN CANCELED<br />\n<br />\n<span style="font-size:12.0pt">Why should the kids have all the fun? Join us at the Library to try virtual reality games like Beat Saber\, Epic Roller Coasters\, and Fruit Ninja on the Oculus Rift! We have a variety of games for people who want to be up and active on their feet\, or people who want a slower-paced game that can be played sitting down. Feel free to bring your children along\, but during these sessions we will prioritize adult players who want to try out virtual reality gaming.<br />\n<br />\nNo registration required\, but sign up for an email reminder if you like: https://events.getlocalhop.com/virtual-reality-games-grownup-edition/event/75teGTQ6Qb/</span><br />\n&nbsp\;
LOCATION:Stoughton Public Library: Tuesday\, July 30\, 6:30pm NOTE: THE SENIOR CENTER SESSION ON JULY 31 HAS BEEN CANCELED
UID:e.3020.11933
SEQUENCE:3
DTSTAMP:20260420T075059Z
URL:https://www.stoughtonwi.com/events/details/virtual-reality-games-grown-up-edition-11933
END:VEVENT

END:VCALENDAR
