BEGIN:VCALENDAR
VERSION:2.0
PRODID:-//ChamberMaster//Event Calendar 2.0//EN
METHOD:PUBLISH
X-PUBLISHED-TTL:P3D
REFRESH-INTERVAL:P3D
CALSCALE:GREGORIAN
BEGIN:VEVENT
DTSTART:20211013T233000Z
DTEND:20211014T001500Z
X-MICROSOFT-CDO-ALLDAYEVENT:FALSE
SUMMARY:Visiting the Bdyond Virtual Haunted House Tour
DESCRIPTION:The Stoughton Public Library is hosting a tour through some of the nation's most haunted locales. Enjoy an interactive presentation from Curt Strutz featuring a mix of history\, photography\, storytelling\, and humor. Recommended for adults\, but teens ages 14+ are welcome to attend. Registration is not required\, but you can email storef@stolib.org if you'd like a reminder a day or two in advance.
X-ALT-DESC;FMTTYPE=text/html:The Stoughton Public Library is hosting a tour through some of the nation&rsquo\;s most haunted locales. Enjoy an interactive presentation from Curt Strutz featuring a mix of history\, photography\, storytelling\, and humor. Recommended for adults\, but teens ages 14+ are welcome to attend. Registration is not required\, but you can email <a href="mailto:storef@stolib.org">storef@stolib.org</a> if you&rsquo\;d like a reminder a day or two in advance.<br />\n&nbsp\;
LOCATION:Zoom link at www.stolib.org/spooky
UID:e.3020.7255
SEQUENCE:3
DTSTAMP:20260424T173236Z
URL:https://www.stoughtonwi.com/events/details/visiting-the-bdyond-virtual-haunted-house-tour-7255
END:VEVENT

END:VCALENDAR
