BEGIN:VCALENDAR
VERSION:2.0
PRODID:-//ChamberMaster//Event Calendar 2.0//EN
METHOD:PUBLISH
X-PUBLISHED-TTL:P3D
REFRESH-INTERVAL:P3D
CALSCALE:GREGORIAN
BEGIN:VEVENT
DTSTART:20240420T160000Z
DTEND:20240420T200000Z
X-MICROSOFT-CDO-ALLDAYEVENT:FALSE
SUMMARY:WKLC Salad Luncheon
DESCRIPTION:Mark your calendars now! West Koshkonong Lutheran Church will be holding it's annual Salad Luncheon. A large variety of meat\, veggie\, pasta and fruit salads will be served along with breads\, homemade pies and beverages. Door open at 11 am so you can view and purchase tickets for over 40 various gift baskets. Lunch served at noon. Tickets limited to 180. Handicap accessible! More information to follow.
X-ALT-DESC;FMTTYPE=text/html:Mark your calendars now! West Koshkonong Lutheran Church will be holding it&#39\;s annual Salad Luncheon. A large variety of meat\, veggie\, pasta and fruit salads will be served along with breads\, homemade pies and beverages. Door open at 11 am so you can view and purchase tickets for over 40 various gift baskets. Lunch served at noon. Tickets limited to 180. Handicap accessible! More information to follow.
LOCATION:West Koshkonong Lutheran Church 1911 Koshkonong Rd Stoughton\, WI 53589
UID:e.3020.11731
SEQUENCE:3
DTSTAMP:20260420T011002Z
URL:https://www.stoughtonwi.com/events/details/wklc-salad-luncheon-04-20-2024-11731
END:VEVENT

END:VCALENDAR
