BEGIN:VCALENDAR
VERSION:2.0
PRODID:-//ChamberMaster//Event Calendar 2.0//EN
METHOD:PUBLISH
X-PUBLISHED-TTL:P3D
REFRESH-INTERVAL:P3D
CALSCALE:GREGORIAN
BEGIN:VEVENT
DTSTART:20240407T150000Z
DTEND:20240407T160000Z
X-MICROSOFT-CDO-ALLDAYEVENT:FALSE
SUMMARY:Yoga Sundays
DESCRIPTION:Presented in partnership between the library and Stoughton Yoga.\n\n\n\nHave you always wanted to try yoga? We'll focus on breath and gentle movement in these classes which are perfect for beginners and all levels. We recommend you bring a blanket or towel\, but the studio can loan you any other props you need\, even a mat.\n\n\n\nThis class is for adults (ages 14+). Space is limited and registration is required\, starting March 3 at 1pm: https://stoughtonpubliclibrary.evanced.info/signup/EventDetails?EventId=148
X-ALT-DESC;FMTTYPE=text/html:<span style="color:black"><span style="font-size:12.0pt">Presented in partnership between the library and Stoughton Yoga.<br />\n<br />\nHave you always wanted to try yoga? We&#39\;ll focus on breath and gentle movement in these classes which are perfect for beginners and all levels. We recommend you bring a blanket or towel\, but the studio can loan you any other props you need\,&nbsp\;</span></span><span style="color:black"><span style="font-size:12.0pt">even a mat.<br />\n<br />\nThis class is for adults (ages 14+). Space is limited and registration is required\, starting March 3 at 1pm: https://stoughtonpubliclibrary.evanced.info/signup/EventDetails?EventId=148</span></span><br />\n&nbsp\;
LOCATION:Stoughton Yoga
UID:e.3020.11793
SEQUENCE:3
DTSTAMP:20260420T011055Z
URL:https://www.stoughtonwi.com/events/details/yoga-sundays-04-07-2024-11793
END:VEVENT

END:VCALENDAR
